BEGIN:VCALENDAR
VERSION:2.0
PRODID:-//Association of Administrators in Academic Pediatrics - ECPv6.15.18//NONSGML v1.0//EN
CALSCALE:GREGORIAN
METHOD:PUBLISH
X-WR-CALNAME:Association of Administrators in Academic Pediatrics
X-ORIGINAL-URL:https://aaapeds.org
X-WR-CALDESC:Events for Association of Administrators in Academic Pediatrics
REFRESH-INTERVAL;VALUE=DURATION:PT1H
X-Robots-Tag:noindex
X-PUBLISHED-TTL:PT1H
BEGIN:VTIMEZONE
TZID:America/Los_Angeles
BEGIN:DAYLIGHT
TZOFFSETFROM:-0800
TZOFFSETTO:-0700
TZNAME:PDT
DTSTART:20210314T100000
END:DAYLIGHT
BEGIN:STANDARD
TZOFFSETFROM:-0700
TZOFFSETTO:-0800
TZNAME:PST
DTSTART:20211107T090000
END:STANDARD
BEGIN:DAYLIGHT
TZOFFSETFROM:-0800
TZOFFSETTO:-0700
TZNAME:PDT
DTSTART:20220313T100000
END:DAYLIGHT
BEGIN:STANDARD
TZOFFSETFROM:-0700
TZOFFSETTO:-0800
TZNAME:PST
DTSTART:20221106T090000
END:STANDARD
BEGIN:DAYLIGHT
TZOFFSETFROM:-0800
TZOFFSETTO:-0700
TZNAME:PDT
DTSTART:20230312T100000
END:DAYLIGHT
BEGIN:STANDARD
TZOFFSETFROM:-0700
TZOFFSETTO:-0800
TZNAME:PST
DTSTART:20231105T090000
END:STANDARD
END:VTIMEZONE
BEGIN:VEVENT
DTSTART;TZID=America/Los_Angeles:20221012T160000
DTEND;TZID=America/Los_Angeles:20221014T130000
DTSTAMP:20260420T010606
CREATED:20220719T143927Z
LAST-MODIFIED:20221023T203944Z
UID:1894-1665590400-1665752400@aaapeds.org
SUMMARY:2022 AAAP REGIONAL MEETING
DESCRIPTION:Join fellow AAAP members for a review of the Regional Meeting Presentations \nConnecticut Children’s Flow of Funds \nCompensation Table Discussion \nPhysician Compensation Models and Mindsets – UNM \nFunds Flow Models \nPhysician Compensation Models and Mindsets – CHLA \nInsights from a Freestanding Pediatric Safety Net Hospital- CHLA \nOffice of Patient Experience Journey – 10 Year Lookback \nDecoding Diversity: Fundamentals of designing a diverse and inclusive community \nWhat is Well-Being? – CHLA \nCompensation Survey Trends \nFunds Flow Model – Stanford University \nStaff Labor Market Trends \nInnovation at CHLA \nPhysician Compensation Models and Mindsets – Stanford University \n  \n  \n2022 AAAP Regional Meeting – Registration Flyer \nThe above link will direct you to the meeting registration and hotel reservation sites. This year’s AAAP Regional Meeting will be hosted by Children’s Hospital\, Los Angeles from October 12-14th.  Hotel check-in begins at 4pm PDT on October 12th\, with closing remarks ending at 1:00pm PDT on the 14th. \nAAAP Regional Meeting Agenda 2022 \nCOVID Precautions \nCurrently\, following the County of Los Angeles Public Health Department’s best practices guide to prevent the spread of COVID-19\, indoor masking is strongly recommended\, but not required.  Additionally\, proof of full vaccination or a negative test is also strongly recommended\, but not required. \nFor more information related to COVID guidelines\, please visit: \nLA County Public Health \nLoews Hotels & Co \nCDC  \nLOOKING FORWARD TO SEEING YOU IN LA! \n  \n 
URL:https://aaapeds.org/event/regional-meeting/
ATTACH;FMTTYPE=image/jpeg:https://aaapeds.org/wp-content/uploads/2022/07/Eventbrite-Main-Image_v1.jpg
END:VEVENT
END:VCALENDAR