BEGIN:VCALENDAR
VERSION:2.0
PRODID:-//Association of Administrators in Academic Pediatrics - ECPv6.15.18//NONSGML v1.0//EN
CALSCALE:GREGORIAN
METHOD:PUBLISH
X-WR-CALNAME:Association of Administrators in Academic Pediatrics
X-ORIGINAL-URL:https://aaapeds.org
X-WR-CALDESC:Events for Association of Administrators in Academic Pediatrics
REFRESH-INTERVAL;VALUE=DURATION:PT1H
X-Robots-Tag:noindex
X-PUBLISHED-TTL:PT1H
BEGIN:VTIMEZONE
TZID:America/New_York
BEGIN:DAYLIGHT
TZOFFSETFROM:-0500
TZOFFSETTO:-0400
TZNAME:EDT
DTSTART:20220313T070000
END:DAYLIGHT
BEGIN:STANDARD
TZOFFSETFROM:-0400
TZOFFSETTO:-0500
TZNAME:EST
DTSTART:20221106T060000
END:STANDARD
BEGIN:DAYLIGHT
TZOFFSETFROM:-0500
TZOFFSETTO:-0400
TZNAME:EDT
DTSTART:20230312T070000
END:DAYLIGHT
BEGIN:STANDARD
TZOFFSETFROM:-0400
TZOFFSETTO:-0500
TZNAME:EST
DTSTART:20231105T060000
END:STANDARD
BEGIN:DAYLIGHT
TZOFFSETFROM:-0500
TZOFFSETTO:-0400
TZNAME:EDT
DTSTART:20240310T070000
END:DAYLIGHT
BEGIN:STANDARD
TZOFFSETFROM:-0400
TZOFFSETTO:-0500
TZNAME:EST
DTSTART:20241103T060000
END:STANDARD
END:VTIMEZONE
BEGIN:VEVENT
DTSTART;TZID=America/New_York:20230215T133000
DTEND;TZID=America/New_York:20230215T143000
DTSTAMP:20260419T162716
CREATED:20230205T051616Z
LAST-MODIFIED:20230222T192935Z
UID:2380-1676467800-1676471400@aaapeds.org
SUMMARY:Webinar - cFTE Project Background and Highlights
DESCRIPTION:***This Event has Passed***\nThank you to everyone who attended. \n  \nThis Members-only webinar will provide the background of the cFTE project\, a review the key highlights of the whitepaper\, and an opportunity to answer any questions. \n**Please click on link below to view the Webinar: \nAAAP cFTE Webinar Recording \n**Provided are the slides for the  AAAP Clinical Work Survey: The Whitepaper Report \n  \n\n\nNOTE: please review the whitepaper document (link below) prior to the webinar\, if possible. \n AAAP cFTE Whitepaper + Appendix \n  \n  \nMicrosoft Teams meeting \nJoin on your computer\, mobile app or room device  \nMeeting ID:\n5hMbxu  \nDownload Teams | Join on the web \nchop1@m.webex.com \n115 981 300 8 \nAlternate VTC instructions \n+1 267-281-6823\,\,929743319#   United States\, Philadelphia \nFind a local number | Reset PIN
URL:https://aaapeds.org/event/2380/
CATEGORIES:Webinars
ATTACH;FMTTYPE=image/png:https://aaapeds.org/wp-content/uploads/2023/02/AAAP-Webinar-2.png
ORGANIZER;CN="Elaine Gallagher":MAILTO:aaapeds@gmail.com
END:VEVENT
END:VCALENDAR